BEGIN:VCALENDAR
VERSION:2.0
PRODID:SchoolNow
CALSCALE:GREGORIAN
BEGIN:VEVENT
UID:eeabdc5a-0e7e-11eb-bbb1-1213f3315983
DTSTAMP:20201022T112139Z
SUMMARY:Halloween Goose Chase
URL;VALUE=URI:https://www.materdeicatholic.com/calendar/2461044/mater-dei-g
 oose-chase
DTSTART;VALUE=DATE:20201031
DTEND;VALUE=DATE:20201102
END:VEVENT
END:VCALENDAR
