BEGIN:VCALENDAR
VERSION:2.0
PRODID:SchoolNow
CALSCALE:GREGORIAN
BEGIN:VEVENT
UID:881c6d98-f6e5-11ea-8e7f-120307565397
DTSTAMP:20200914T235347Z
SUMMARY:Golf Outing
LOCATION:Mainland Golf Course
URL;VALUE=URI:https://www.materdeicatholic.com/calendar/2354673/golf-outing
DTSTART;VALUE=DATE:20201016
DTEND;VALUE=DATE:20201017
END:VEVENT
END:VCALENDAR
