BEGIN:VCALENDAR
VERSION:2.0
PRODID:SchoolNow
CALSCALE:GREGORIAN
BEGIN:VEVENT
UID:c2e32e18-f6e4-11ea-84f4-126663c334e5
DTSTAMP:20200914T234846Z
SUMMARY:Live Stream of Officers' Installation Mass
URL;VALUE=URI:https://www.materdeicatholic.com/calendar/2354617/officers-in
 stallation-mass
DTSTART:20200929T180000Z
DTEND:20200929T190000Z
END:VEVENT
END:VCALENDAR
