BEGIN:VCALENDAR
VERSION:2.0
PRODID:SchoolNow
CALSCALE:GREGORIAN
BEGIN:VEVENT
UID:4a961c8e-f303-11ea-957d-12f307213057
DTSTAMP:20200910T011728Z
SUMMARY:Texas Roadhouse Dine to Donate
URL;VALUE=URI:https://www.materdeicatholic.com/calendar/2344107/texas-roadh
 ouse-dine-to-donate
DTSTART:20200921T200000Z
DTEND:20200922T000000Z
END:VEVENT
END:VCALENDAR
