BEGIN:VCALENDAR
VERSION:2.0
PRODID:SchoolNow
CALSCALE:GREGORIAN
BEGIN:VEVENT
UID:e579bee4-dd83-11ea-b609-1238a9e0f40b
DTSTAMP:20200813T164154Z
SUMMARY:Panera Spirit Night
URL;VALUE=URI:https://www.materdeicatholic.com/calendar/2305618/panera-spir
 it-night
DTSTART:20200824T200000Z
DTEND:20200825T000000Z
END:VEVENT
END:VCALENDAR
