BEGIN:VCALENDAR
VERSION:2.0
PRODID:SchoolNow
CALSCALE:GREGORIAN
BEGIN:VEVENT
UID:bd28c660-d8d3-11ea-aa58-0ab19f4a756b
DTSTAMP:20210514T124140Z
SUMMARY:Closing Liturgy
LOCATION:St. Stanislaus Church
URL;VALUE=URI:https://www.materdeicatholic.com/calendar/2302321/closing-lit
 urgy
DTSTART:20210616T133000Z
DTEND:20210616T143000Z
END:VEVENT
END:VCALENDAR
