BEGIN:VCALENDAR
VERSION:2.0
PRODID:SchoolNow
CALSCALE:GREGORIAN
BEGIN:VEVENT
UID:961acdf2-d8d3-11ea-a2fc-0ab19f4a756b
DTSTAMP:20210514T124121Z
SUMMARY:Full Day of School Gr. K-7
URL;VALUE=URI:https://www.materdeicatholic.com/calendar/2302320/full-day-of
 -school-gr-1-7
DTSTART;VALUE=DATE:20210614
DTEND;VALUE=DATE:20210615
END:VEVENT
END:VCALENDAR
