BEGIN:VCALENDAR
VERSION:2.0
PRODID:SchoolNow
CALSCALE:GREGORIAN
BEGIN:VEVENT
UID:88738b4e-d8d3-11ea-886a-0ab19f4a756b
DTSTAMP:20210514T124023Z
SUMMARY:Field Day
URL;VALUE=URI:https://www.materdeicatholic.com/calendar/2302319/field-day
DTSTART;VALUE=DATE:20210615
DTEND;VALUE=DATE:20210616
END:VEVENT
END:VCALENDAR
