BEGIN:VCALENDAR
VERSION:2.0
PRODID:SchoolNow
CALSCALE:GREGORIAN
BEGIN:VEVENT
UID:13ced104-d8d3-11ea-91a2-120ee9ec6873
DTSTAMP:20200807T172607Z
SUMMARY:Early Dismissal Gr. 1-7
DESCRIPTION:No School for Grade 8
URL;VALUE=URI:https://www.materdeicatholic.com/calendar/2302316/early-dismi
 ssal-gr-1-7
DTSTART:20210616T153000Z
DTEND:20210617T034500Z
END:VEVENT
END:VCALENDAR
