BEGIN:VCALENDAR
VERSION:2.0
PRODID:SchoolNow
CALSCALE:GREGORIAN
BEGIN:VEVENT
UID:d94bf4f8-d8d2-11ea-ab3f-0a028c1306f7
DTSTAMP:20210514T123954Z
SUMMARY:Full Day of School Gr. 1-7
URL;VALUE=URI:https://www.materdeicatholic.com/calendar/2302315/full-day-of
 -school-gr-1-8
DTSTART;VALUE=DATE:20210615
DTEND;VALUE=DATE:20210616
END:VEVENT
END:VCALENDAR
