BEGIN:VCALENDAR
VERSION:2.0
PRODID:SchoolNow
CALSCALE:GREGORIAN
BEGIN:VEVENT
UID:aec62690-d8d2-11ea-83b9-0a028c1306f7
DTSTAMP:20200807T172317Z
SUMMARY:Last Day of School for Pre-K
URL;VALUE=URI:https://www.materdeicatholic.com/calendar/2302314/last-day-of
 -school-for-pre-k
DTSTART;VALUE=DATE:20210611
DTEND;VALUE=DATE:20210612
END:VEVENT
END:VCALENDAR
