BEGIN:VCALENDAR
VERSION:2.0
PRODID:SchoolNow
CALSCALE:GREGORIAN
BEGIN:VEVENT
UID:dfd5cb10-d8d1-11ea-bd71-120ee9ec6873
DTSTAMP:20210601T132544Z
SUMMARY:Kindergarten Graduation
LOCATION:St. Stanislaus Church
URL;VALUE=URI:https://www.materdeicatholic.com/calendar/2302312/kindergarte
 n-graduation
DTSTART:20210615T143000Z
DTEND:20210615T153000Z
END:VEVENT
END:VCALENDAR
