BEGIN:VCALENDAR
VERSION:2.0
PRODID:SchoolNow
CALSCALE:GREGORIAN
BEGIN:VEVENT
UID:a2cd9e96-d8d1-11ea-ae29-120ee9ec6873
DTSTAMP:20200807T171547Z
SUMMARY:End of the Year Assessments
URL;VALUE=URI:https://www.materdeicatholic.com/calendar/2302310/end-of-the-
 year-assessments
DTSTART;VALUE=DATE:20210607
DTEND;VALUE=DATE:20210612
END:VEVENT
END:VCALENDAR
