BEGIN:VCALENDAR
VERSION:2.0
PRODID:SchoolNow
CALSCALE:GREGORIAN
BEGIN:VEVENT
UID:77a8cf88-d8d1-11ea-a3af-120ee9ec6873
DTSTAMP:20200807T171435Z
SUMMARY:End of the Year Assessments
URL;VALUE=URI:https://www.materdeicatholic.com/calendar/2302309/end-of-the-
 year-assessments
DTSTART;VALUE=DATE:20210602
DTEND;VALUE=DATE:20210605
END:VEVENT
END:VCALENDAR
