BEGIN:VCALENDAR
VERSION:2.0
PRODID:SchoolNow
CALSCALE:GREGORIAN
BEGIN:VEVENT
UID:49d8718a-d8d1-11ea-857e-120ee9ec6873
DTSTAMP:20200807T171318Z
SUMMARY:No School
URL;VALUE=URI:https://www.materdeicatholic.com/calendar/2302308/no-school
DTSTART;VALUE=DATE:20210531
DTEND;VALUE=DATE:20210601
END:VEVENT
END:VCALENDAR
