BEGIN:VCALENDAR
VERSION:2.0
PRODID:SchoolNow
CALSCALE:GREGORIAN
BEGIN:VEVENT
UID:3c26d342-d8d1-11ea-8201-120ee9ec6873
DTSTAMP:20200807T171255Z
SUMMARY:No School
URL;VALUE=URI:https://www.materdeicatholic.com/calendar/2302290/no-school
DTSTART;VALUE=DATE:20210528
DTEND;VALUE=DATE:20210529
END:VEVENT
END:VCALENDAR
