BEGIN:VCALENDAR
VERSION:2.0
PRODID:SchoolNow
CALSCALE:GREGORIAN
BEGIN:VEVENT
UID:d4f46f72-d8d0-11ea-b531-12cd58e1e5e5
DTSTAMP:20200807T171002Z
SUMMARY:National Junior Honor Society Induction
LOCATION:St. Stanislaus Church
URL;VALUE=URI:https://www.materdeicatholic.com/calendar/2302288/national-ju
 nior-honor-society-induction
DTSTART:20210520T180000Z
DTEND:20210520T190000Z
END:VEVENT
END:VCALENDAR
