BEGIN:VCALENDAR
VERSION:2.0
PRODID:SchoolNow
CALSCALE:GREGORIAN
BEGIN:VEVENT
UID:ff8fbe72-d8cf-11ea-9f35-0ab19f4a756b
DTSTAMP:20200807T170404Z
SUMMARY:No School
URL;VALUE=URI:https://www.materdeicatholic.com/calendar/2302285/no-school
DTSTART;VALUE=DATE:20210513
DTEND;VALUE=DATE:20210514
END:VEVENT
END:VCALENDAR
