BEGIN:VCALENDAR
VERSION:2.0
PRODID:SchoolNow
CALSCALE:GREGORIAN
BEGIN:VEVENT
UID:d49eb79a-d8cf-11ea-8df8-0ab19f4a756b
DTSTAMP:20200807T170252Z
SUMMARY:May Procession
LOCATION:St. Stanislaus Church
URL;VALUE=URI:https://www.materdeicatholic.com/calendar/2302284/may-process
 ion
DTSTART:20210511T180000Z
DTEND:20210511T190000Z
END:VEVENT
END:VCALENDAR
