BEGIN:VCALENDAR
VERSION:2.0
PRODID:SchoolNow
CALSCALE:GREGORIAN
BEGIN:VEVENT
UID:5874396a-d8cf-11ea-9123-0ab19f4a756b
DTSTAMP:20210423T121253Z
SUMMARY:Progress Reports
URL;VALUE=URI:https://www.materdeicatholic.com/calendar/2302281/progress-re
 ports
DTSTART;VALUE=DATE:20210503
DTEND;VALUE=DATE:20210504
END:VEVENT
END:VCALENDAR
