BEGIN:VCALENDAR
VERSION:2.0
PRODID:SchoolNow
CALSCALE:GREGORIAN
BEGIN:VEVENT
UID:ed3828f0-d8ce-11ea-8e6d-12194b307769
DTSTAMP:20200807T165624Z
SUMMARY:School Liturgy
LOCATION:St. Stanislaus Church
URL;VALUE=URI:https://www.materdeicatholic.com/calendar/2302279/school-litu
 rgy
DTSTART:20210408T150000Z
DTEND:20210408T160000Z
END:VEVENT
END:VCALENDAR
