BEGIN:VCALENDAR
VERSION:2.0
PRODID:SchoolNow
CALSCALE:GREGORIAN
BEGIN:VEVENT
UID:b7bc39d2-d8ce-11ea-ab59-12194b307769
DTSTAMP:20200807T165454Z
SUMMARY:Classes Resume
URL;VALUE=URI:https://www.materdeicatholic.com/calendar/2302277/classes-res
 ume
DTSTART;VALUE=DATE:20210406
DTEND;VALUE=DATE:20210407
END:VEVENT
END:VCALENDAR
