BEGIN:VCALENDAR
VERSION:2.0
PRODID:SchoolNow
CALSCALE:GREGORIAN
BEGIN:VEVENT
UID:a82e32e0-d8ce-11ea-a779-12194b307769
DTSTAMP:20200807T165428Z
SUMMARY:No School
URL;VALUE=URI:https://www.materdeicatholic.com/calendar/2302276/no-school
DTSTART;VALUE=DATE:20210405
DTEND;VALUE=DATE:20210406
END:VEVENT
END:VCALENDAR
