BEGIN:VCALENDAR
VERSION:2.0
PRODID:SchoolNow
CALSCALE:GREGORIAN
BEGIN:VEVENT
UID:83ebebca-d8ce-11ea-8c73-12194b307769
DTSTAMP:20200807T165327Z
SUMMARY:No School
URL;VALUE=URI:https://www.materdeicatholic.com/calendar/2302275/no-school
DTSTART;VALUE=DATE:20210401
DTEND;VALUE=DATE:20210403
END:VEVENT
END:VCALENDAR
