BEGIN:VCALENDAR
VERSION:2.0
PRODID:SchoolNow
CALSCALE:GREGORIAN
BEGIN:VEVENT
UID:e20d7aa4-d8cc-11ea-a0d2-12194b307769
DTSTAMP:20200807T164146Z
SUMMARY:Report Cards
URL;VALUE=URI:https://www.materdeicatholic.com/calendar/2302270/report-card
 s
DTSTART;VALUE=DATE:20210319
DTEND;VALUE=DATE:20210320
END:VEVENT
END:VCALENDAR
