BEGIN:VCALENDAR
VERSION:2.0
PRODID:SchoolNow
CALSCALE:GREGORIAN
BEGIN:VEVENT
UID:b5d844a0-d8cc-11ea-b87c-12194b307769
DTSTAMP:20200807T164032Z
SUMMARY:Home & School Pot of Gold Drawing
URL;VALUE=URI:https://www.materdeicatholic.com/calendar/2302268/home-school
 -pot-of-gold-drawing
DTSTART;VALUE=DATE:20210317
DTEND;VALUE=DATE:20210318
END:VEVENT
END:VCALENDAR
