BEGIN:VCALENDAR
VERSION:2.0
PRODID:SchoolNow
CALSCALE:GREGORIAN
BEGIN:VEVENT
UID:8a58f40a-d8cc-11ea-b0c7-12194b307769
DTSTAMP:20200807T163919Z
SUMMARY:Terra Nova Testing
URL;VALUE=URI:https://www.materdeicatholic.com/calendar/2302267/terra-nova-
 testing
DTSTART;VALUE=DATE:20210315
DTEND;VALUE=DATE:20210320
END:VEVENT
END:VCALENDAR
