BEGIN:VCALENDAR
VERSION:2.0
PRODID:SchoolNow
CALSCALE:GREGORIAN
BEGIN:VEVENT
UID:77538956-d8cc-11ea-8ac7-12194b307769
DTSTAMP:20200807T163847Z
SUMMARY:Terra Nova Testing
URL;VALUE=URI:https://www.materdeicatholic.com/calendar/2302266/terra-nova-
 testing
DTSTART;VALUE=DATE:20210311
DTEND;VALUE=DATE:20210313
END:VEVENT
END:VCALENDAR
