BEGIN:VCALENDAR
VERSION:2.0
PRODID:SchoolNow
CALSCALE:GREGORIAN
BEGIN:VEVENT
UID:4a12adb4-d8cc-11ea-99fa-0ab6a254baf7
DTSTAMP:20200807T163731Z
SUMMARY:Third Trimester Begins
URL;VALUE=URI:https://www.materdeicatholic.com/calendar/2302265/third-trime
 ster-begins
DTSTART;VALUE=DATE:20210311
DTEND;VALUE=DATE:20210312
END:VEVENT
END:VCALENDAR
