BEGIN:VCALENDAR
VERSION:2.0
PRODID:SchoolNow
CALSCALE:GREGORIAN
BEGIN:VEVENT
UID:3b8d77c4-d8cc-11ea-a98d-0ab6a254baf7
DTSTAMP:20200807T163707Z
SUMMARY:End of Second Trimester
URL;VALUE=URI:https://www.materdeicatholic.com/calendar/2302264/end-of-seco
 nd-trimester
DTSTART;VALUE=DATE:20210310
DTEND;VALUE=DATE:20210311
END:VEVENT
END:VCALENDAR
