BEGIN:VCALENDAR
VERSION:2.0
PRODID:SchoolNow
CALSCALE:GREGORIAN
BEGIN:VEVENT
UID:20029dd6-d8cc-11ea-bb4a-0ab6a254baf7
DTSTAMP:20200807T163621Z
SUMMARY:No School
URL;VALUE=URI:https://www.materdeicatholic.com/calendar/2302263/no-school
DTSTART;VALUE=DATE:20210308
DTEND;VALUE=DATE:20210309
END:VEVENT
END:VCALENDAR
