BEGIN:VCALENDAR
VERSION:2.0
PRODID:SchoolNow
CALSCALE:GREGORIAN
BEGIN:VEVENT
UID:03585126-d8cc-11ea-b0c2-0ab6a254baf7
DTSTAMP:20210222T163117Z
SUMMARY:Home & School Designer Bag Raffle
LOCATION:Mater Dei Catholic School Gym
URL;VALUE=URI:https://www.materdeicatholic.com/calendar/2302262/home-school
 -bag-bingo
DTSTART:20210409T223000Z
DTEND:20210409T233000Z
END:VEVENT
END:VCALENDAR
