BEGIN:VCALENDAR
VERSION:2.0
PRODID:SchoolNow
CALSCALE:GREGORIAN
BEGIN:VEVENT
UID:958621f0-d8cb-11ea-bf6a-120ee9ec6873
DTSTAMP:20200807T163228Z
SUMMARY:Live Stream Ash Wednesday
URL;VALUE=URI:https://www.materdeicatholic.com/calendar/2302261/live-stream
 -ash-wednesday
DTSTART:20210217T140000Z
DTEND:20210217T150000Z
END:VEVENT
END:VCALENDAR
