BEGIN:VCALENDAR
VERSION:2.0
PRODID:SchoolNow
CALSCALE:GREGORIAN
BEGIN:VEVENT
UID:14e39366-d8cb-11ea-9be7-0a5362879137
DTSTAMP:20200807T162852Z
SUMMARY:No School
URL;VALUE=URI:https://www.materdeicatholic.com/calendar/2302259/no-school
DTSTART;VALUE=DATE:20210215
DTEND;VALUE=DATE:20210216
END:VEVENT
END:VCALENDAR
