BEGIN:VCALENDAR
VERSION:2.0
PRODID:SchoolNow
CALSCALE:GREGORIAN
BEGIN:VEVENT
UID:ecdfbcbe-d8ca-11ea-ab5b-0a5362879137
DTSTAMP:20200807T162745Z
SUMMARY:Polar Bear Plunge
LOCATION:Sea Isle City\, NJ
URL;VALUE=URI:https://www.materdeicatholic.com/calendar/2302258/polar-bear-
 plunge
DTSTART:20210213T170000Z
DTEND:20210213T180000Z
END:VEVENT
END:VCALENDAR
