BEGIN:VCALENDAR
VERSION:2.0
PRODID:SchoolNow
CALSCALE:GREGORIAN
BEGIN:VEVENT
UID:b3b9d08c-d8ca-11ea-88d3-0a5362879137
DTSTAMP:20200807T162609Z
SUMMARY:Early Dismissal
URL;VALUE=URI:https://www.materdeicatholic.com/calendar/2302257/early-dismi
 ssal
DTSTART:20210212T163000Z
DTEND:20210212T164500Z
END:VEVENT
END:VCALENDAR
