BEGIN:VCALENDAR
VERSION:2.0
PRODID:SchoolNow
CALSCALE:GREGORIAN
BEGIN:VEVENT
UID:66785000-d8ca-11ea-b1b2-12ff47430319
DTSTAMP:20200807T162400Z
SUMMARY:Virtual Polar Plunge Pep Rally
URL;VALUE=URI:https://www.materdeicatholic.com/calendar/2302256/virtual-pol
 ar-plunge-pep-rally
DTSTART:20210212T143000Z
DTEND:20210212T153000Z
END:VEVENT
END:VCALENDAR
