BEGIN:VCALENDAR
VERSION:2.0
PRODID:SchoolNow
CALSCALE:GREGORIAN
BEGIN:VEVENT
UID:30eff37a-d8ca-11ea-8d28-12ff47430319
DTSTAMP:20200807T162230Z
SUMMARY:Progress Reports
URL;VALUE=URI:https://www.materdeicatholic.com/calendar/2302255/progress-re
 ports
DTSTART;VALUE=DATE:20210205
DTEND;VALUE=DATE:20210206
END:VEVENT
END:VCALENDAR
