BEGIN:VCALENDAR
VERSION:2.0
PRODID:SchoolNow
CALSCALE:GREGORIAN
BEGIN:VEVENT
UID:064c0212-d8ca-11ea-90e9-12ff47430319
DTSTAMP:20200807T162118Z
SUMMARY:Catholic Schools Week
URL;VALUE=URI:https://www.materdeicatholic.com/calendar/2302254/catholic-sc
 hools-week
DTSTART;VALUE=DATE:20210131
DTEND;VALUE=DATE:20210206
END:VEVENT
END:VCALENDAR
