BEGIN:VCALENDAR
VERSION:2.0
PRODID:SchoolNow
CALSCALE:GREGORIAN
BEGIN:VEVENT
UID:9e0a8e9e-d8c9-11ea-869f-0a028c1306f7
DTSTAMP:20200807T164424Z
SUMMARY:Home & School General Meeting
LOCATION:Mater Dei Catholic School Gym
URL;VALUE=URI:https://www.materdeicatholic.com/calendar/2302252/home-school
 -general-meeting
DTSTART:20210127T000000Z
DTEND:20210127T020000Z
END:VEVENT
END:VCALENDAR
