BEGIN:VCALENDAR
VERSION:2.0
PRODID:SchoolNow
CALSCALE:GREGORIAN
BEGIN:VEVENT
UID:66076346-d8c9-11ea-96b1-0a028c1306f7
DTSTAMP:20200807T161650Z
SUMMARY:No School
URL;VALUE=URI:https://www.materdeicatholic.com/calendar/2302251/no-school
DTSTART;VALUE=DATE:20210118
DTEND;VALUE=DATE:20210119
END:VEVENT
END:VCALENDAR
