BEGIN:VCALENDAR
VERSION:2.0
PRODID:SchoolNow
CALSCALE:GREGORIAN
BEGIN:VEVENT
UID:4b0170be-d8c9-11ea-baf6-0a028c1306f7
DTSTAMP:20200807T161604Z
SUMMARY:Live Stream School Liturgy
URL;VALUE=URI:https://www.materdeicatholic.com/calendar/2302250/live-stream
 -school-liturgy
DTSTART:20210107T160000Z
DTEND:20210107T170000Z
END:VEVENT
END:VCALENDAR
