BEGIN:VCALENDAR
VERSION:2.0
PRODID:SchoolNow
CALSCALE:GREGORIAN
BEGIN:VEVENT
UID:2a463bb6-d8c9-11ea-a7f9-0a028c1306f7
DTSTAMP:20200807T161509Z
SUMMARY:Last Day Early Bird Re-Registration
URL;VALUE=URI:https://www.materdeicatholic.com/calendar/2302249/last-day-ea
 rly-bird-re-registration
DTSTART;VALUE=DATE:20210104
DTEND;VALUE=DATE:20210105
END:VEVENT
END:VCALENDAR
