BEGIN:VCALENDAR
VERSION:2.0
PRODID:SchoolNow
CALSCALE:GREGORIAN
BEGIN:VEVENT
UID:7662152a-d8c8-11ea-b1bd-0ab6a254baf7
DTSTAMP:20200807T161007Z
SUMMARY:Classes Resume
URL;VALUE=URI:https://www.materdeicatholic.com/calendar/2302247/classes-res
 ume
DTSTART;VALUE=DATE:20210104
DTEND;VALUE=DATE:20210105
END:VEVENT
END:VCALENDAR
