BEGIN:VCALENDAR
VERSION:2.0
PRODID:SchoolNow
CALSCALE:GREGORIAN
BEGIN:VEVENT
UID:efe0c6cc-d8c7-11ea-b382-124ed100193f
DTSTAMP:20200807T160622Z
SUMMARY:Report Cards
URL;VALUE=URI:https://www.materdeicatholic.com/calendar/2302244/report-card
 s
DTSTART;VALUE=DATE:20201214
DTEND;VALUE=DATE:20201215
END:VEVENT
END:VCALENDAR
