BEGIN:VCALENDAR
VERSION:2.0
PRODID:SchoolNow
CALSCALE:GREGORIAN
BEGIN:VEVENT
UID:b1c82538-d8c7-11ea-84e0-1275593c1b5b
DTSTAMP:20200807T160438Z
SUMMARY:Home & School Raffle Tickets Distributed
URL;VALUE=URI:https://www.materdeicatholic.com/calendar/2302243/home-school
 -raffle-tickets-distributed
DTSTART;VALUE=DATE:20201211
DTEND;VALUE=DATE:20201212
END:VEVENT
END:VCALENDAR
