BEGIN:VCALENDAR
VERSION:2.0
PRODID:SchoolNow
CALSCALE:GREGORIAN
BEGIN:VEVENT
UID:73e7980c-d8c7-11ea-96ba-0ab19f4a756b
DTSTAMP:20200807T160254Z
SUMMARY:No School
URL;VALUE=URI:https://www.materdeicatholic.com/calendar/2302221/no-school
DTSTART;VALUE=DATE:20201208
DTEND;VALUE=DATE:20201209
END:VEVENT
END:VCALENDAR
