BEGIN:VCALENDAR
VERSION:2.0
PRODID:SchoolNow
CALSCALE:GREGORIAN
BEGIN:VEVENT
UID:3dfb4982-d8c7-11ea-8abc-1275593c1b5b
DTSTAMP:20200807T160123Z
SUMMARY:Second Trimester Begins
URL;VALUE=URI:https://www.materdeicatholic.com/calendar/2302220/second-trim
 ester-begins
DTSTART;VALUE=DATE:20201207
DTEND;VALUE=DATE:20201208
END:VEVENT
END:VCALENDAR
