BEGIN:VCALENDAR
VERSION:2.0
PRODID:SchoolNow
CALSCALE:GREGORIAN
BEGIN:VEVENT
UID:30e553fa-d8c7-11ea-bcab-1275593c1b5b
DTSTAMP:20200807T160101Z
SUMMARY:End of First Trimester
URL;VALUE=URI:https://www.materdeicatholic.com/calendar/2302219/end-of-firs
 t-trimester
DTSTART;VALUE=DATE:20201204
DTEND;VALUE=DATE:20201205
END:VEVENT
END:VCALENDAR
