BEGIN:VCALENDAR
VERSION:2.0
PRODID:SchoolNow
CALSCALE:GREGORIAN
BEGIN:VEVENT
UID:04662fd4-d8c7-11ea-b640-1275593c1b5b
DTSTAMP:20200807T160025Z
SUMMARY:No School
URL;VALUE=URI:https://www.materdeicatholic.com/calendar/2302218/no-school
DTSTART;VALUE=DATE:20201130
DTEND;VALUE=DATE:20201201
END:VEVENT
END:VCALENDAR
